BEGIN:VCALENDAR
VERSION:2.0
PRODID:-//time.you/holidays//NONSGML v1.0//EN
BEGIN:VEVENT
UID:150bda2f-743e-46b6-988f-b2e381f4d7cc
DTSTAMP:20260420T203548Z
DTSTART;VALUE=DATE:20261226
SUMMARY:Boxing Day (Uganda)
END:VEVENT
END:VCALENDAR