BEGIN:VCALENDAR
VERSION:2.0
PRODID:-//time.you/holidays//NONSGML v1.0//EN
BEGIN:VEVENT
UID:6dfc7cdb-1e8d-403b-9f8b-4575128675ca
DTSTAMP:20260420T200956Z
DTSTART;VALUE=DATE:20260406
SUMMARY:Easter Monday (Uganda)
END:VEVENT
END:VCALENDAR