BEGIN:VCALENDAR
VERSION:2.0
PRODID:-//time.you/holidays//NONSGML v1.0//EN
BEGIN:VEVENT
UID:d0186d8a-4c32-4f68-9b06-063d1122eaf1
DTSTAMP:20260420T125148Z
DTSTART;VALUE=DATE:20260320
SUMMARY:Eid al-Fitr (estimated) (Uganda)
END:VEVENT
END:VCALENDAR