BEGIN:VCALENDAR
VERSION:2.0
PRODID:-//time.you/holidays//NONSGML v1.0//EN
BEGIN:VEVENT
UID:60c2028c-b979-444a-8ea9-e0bf367adeea
DTSTAMP:20260421T090235Z
DTSTART;VALUE=DATE:20260403
SUMMARY:Good Friday (Uganda)
END:VEVENT
END:VCALENDAR