BEGIN:VCALENDAR
VERSION:2.0
PRODID:-//time.you/holidays//NONSGML v1.0//EN
BEGIN:VEVENT
UID:1ea80f17-9d79-4aad-b7a1-cfabd003f33e
DTSTAMP:20260421T115644Z
DTSTART;VALUE=DATE:20260609
SUMMARY:National Heroes' Day (Uganda)
END:VEVENT
END:VCALENDAR