BEGIN:VCALENDAR
VERSION:2.0
PRODID:-//time.you/holidays//NONSGML v1.0//EN
BEGIN:VEVENT
UID:42120c58-924c-4916-831e-8a8535139028
DTSTAMP:20260420T124722Z
DTSTART;VALUE=DATE:20260101
SUMMARY:New Year's Day (Uganda)
END:VEVENT
END:VCALENDAR