BEGIN:VCALENDAR
VERSION:2.0
PRODID:-//time.you/holidays//NONSGML v1.0//EN
BEGIN:VEVENT
UID:bd8f9dfc-1641-4690-98a3-f6acac37934d
DTSTAMP:20260420T042340Z
DTSTART;VALUE=DATE:20260308
SUMMARY:Women's Day (Uganda)
END:VEVENT
END:VCALENDAR