BEGIN:VCALENDAR
VERSION:2.0
PRODID:-//time.you/holidays//NONSGML v1.0//EN
BEGIN:VEVENT
UID:7abd8548-d852-439e-90b7-90255080bd2d
DTSTAMP:20260420T071837Z
DTSTART;VALUE=DATE:20260526
SUMMARY:Arafat Day (estimated) (United Arab Emirates)
END:VEVENT
END:VCALENDAR