BEGIN:VCALENDAR
VERSION:2.0
PRODID:-//time.you/holidays//NONSGML v1.0//EN
BEGIN:VEVENT
UID:d00528bf-897b-4100-ad7d-70ba3c33ff7b
DTSTAMP:20260425T012831Z
DTSTART;VALUE=DATE:20231201
SUMMARY:Commemoration Day (United Arab Emirates)
END:VEVENT
END:VCALENDAR