BEGIN:VCALENDAR
VERSION:2.0
PRODID:-//time.you/holidays//NONSGML v1.0//EN
BEGIN:VEVENT
UID:942141b6-be58-45f3-bd17-0f059c39d810
DTSTAMP:20260420T141216Z
DTSTART;VALUE=DATE:20220514
SUMMARY:Death of Sheikh Khalifa bin Zayed Al Nahyan (United Arab Emirates)
END:VEVENT
END:VCALENDAR