BEGIN:VCALENDAR
VERSION:2.0
PRODID:-//time.you/holidays//NONSGML v1.0//EN
BEGIN:VEVENT
UID:41f3522d-0f34-406f-851f-70bccc99f7db
DTSTAMP:20260420T055129Z
DTSTART;VALUE=DATE:20260528
SUMMARY:Eid al-Adha Holiday (estimated) (United Arab Emirates)
END:VEVENT
END:VCALENDAR