BEGIN:VCALENDAR
VERSION:2.0
PRODID:-//time.you/holidays//NONSGML v1.0//EN
BEGIN:VEVENT
UID:96282a82-92bb-4103-a430-64d397e74097
DTSTAMP:20260422T051739Z
DTSTART;VALUE=DATE:20250605
SUMMARY:Eid al-Adha Holiday (United Arab Emirates)
END:VEVENT
END:VCALENDAR