BEGIN:VCALENDAR
VERSION:2.0
PRODID:-//time.you/holidays//NONSGML v1.0//EN
BEGIN:VEVENT
UID:5bbdbd6a-434c-4df6-bb7a-328e9d15cd34
DTSTAMP:20260421T194441Z
DTSTART;VALUE=DATE:20250604
SUMMARY:Eid al-Adha (United Arab Emirates)
END:VEVENT
END:VCALENDAR