BEGIN:VCALENDAR
VERSION:2.0
PRODID:-//time.you/holidays//NONSGML v1.0//EN
BEGIN:VEVENT
UID:56b15dcc-c402-4704-9b6c-d6f7026ac8b6
DTSTAMP:20260420T125825Z
DTSTART;VALUE=DATE:20250331
SUMMARY:Eid al-Fitr Holiday (United Arab Emirates)
END:VEVENT
END:VCALENDAR