BEGIN:VCALENDAR
VERSION:2.0
PRODID:-//time.you/holidays//NONSGML v1.0//EN
BEGIN:VEVENT
UID:691517e5-0a4a-49f6-93d7-65b3923ad320
DTSTAMP:20260420T090357Z
DTSTART;VALUE=DATE:20250626
SUMMARY:Islamic New Year (United Arab Emirates)
END:VEVENT
END:VCALENDAR