BEGIN:VCALENDAR
VERSION:2.0
PRODID:-//time.you/holidays//NONSGML v1.0//EN
BEGIN:VEVENT
UID:28ba709e-53a2-4946-bb3c-6aacefc3ac24
DTSTAMP:20260421T144048Z
DTSTART;VALUE=DATE:20261202
SUMMARY:National Day (United Arab Emirates)
END:VEVENT
END:VCALENDAR