BEGIN:VCALENDAR
VERSION:2.0
PRODID:-//time.you/holidays//NONSGML v1.0//EN
BEGIN:VEVENT
UID:08bcea2b-93f9-497b-a45c-d7f6738777a2
DTSTAMP:20260424T094222Z
DTSTART;VALUE=DATE:20260712
SUMMARY:Battle of the Boyne (United Kingdom)
END:VEVENT
END:VCALENDAR