BEGIN:VCALENDAR
VERSION:2.0
PRODID:-//time.you/holidays//NONSGML v1.0//EN
BEGIN:VEVENT
UID:90c0241b-2feb-419d-aac6-da171873e4db
DTSTAMP:20260421T235833Z
DTSTART;VALUE=DATE:20260831
SUMMARY:Late Summer Bank Holiday (United Kingdom)
END:VEVENT
END:VCALENDAR