BEGIN:VCALENDAR
VERSION:2.0
PRODID:-//time.you/holidays//NONSGML v1.0//EN
BEGIN:VEVENT
UID:67e54db6-af7c-4d31-8b90-e8391abc0750
DTSTAMP:20260424T150240Z
DTSTART;VALUE=DATE:20301202
SUMMARY:Saint Andrew's Day (observed) (United Kingdom)
END:VEVENT
END:VCALENDAR