BEGIN:VCALENDAR
VERSION:2.0
PRODID:-//time.you/holidays//NONSGML v1.0//EN
BEGIN:VEVENT
UID:2e865313-fe8a-4093-a6b4-79ac1ebccbc5
DTSTAMP:20260422T041357Z
DTSTART;VALUE=DATE:20260803
SUMMARY:Summer Bank Holiday (United Kingdom)
END:VEVENT
END:VCALENDAR