BEGIN:VCALENDAR
VERSION:2.0
PRODID:-//time.you/holidays//NONSGML v1.0//EN
BEGIN:VEVENT
UID:1fe7f5b8-d805-4dbb-bc0f-d96f16c15a91
DTSTAMP:20260424T164551Z
DTSTART;VALUE=DATE:20260101
SUMMARY:New Year's Day (United States Minor Outlying Islands)
END:VEVENT
END:VCALENDAR