BEGIN:VCALENDAR
VERSION:2.0
PRODID:-//time.you/holidays//NONSGML v1.0//EN
BEGIN:VEVENT
UID:1ce3b04e-b3e7-497e-a234-35dbdd20d854
DTSTAMP:20260422T073834Z
DTSTART;VALUE=DATE:20260216
SUMMARY:Washington's Birthday (United States Minor Outlying Islands)
END:VEVENT
END:VCALENDAR