BEGIN:VCALENDAR
VERSION:2.0
PRODID:-//time.you/holidays//NONSGML v1.0//EN
BEGIN:VEVENT
UID:1951f6b9-ee43-4f2f-829f-8bff4553926d
DTSTAMP:20260421T143600Z
DTSTART;VALUE=DATE:20261018
SUMMARY:Alaska Day (United States)
END:VEVENT
END:VCALENDAR