BEGIN:VCALENDAR
VERSION:2.0
PRODID:-//time.you/holidays//NONSGML v1.0//EN
BEGIN:VEVENT
UID:0371b152-7bb2-41ff-9f79-7bade202d0db
DTSTAMP:20260422T012317Z
DTSTART;VALUE=DATE:20261102
SUMMARY:All Souls' Day (United States)
END:VEVENT
END:VCALENDAR