BEGIN:VCALENDAR
VERSION:2.0
PRODID:-//time.you/holidays//NONSGML v1.0//EN
BEGIN:VEVENT
UID:20e93423-1468-4d9b-a892-f8e9e7f45777
DTSTAMP:20260421T205724Z
DTSTART;VALUE=DATE:20260417
SUMMARY:American Samoa Flag Day (United States)
END:VEVENT
END:VCALENDAR