BEGIN:VCALENDAR
VERSION:2.0
PRODID:-//time.you/holidays//NONSGML v1.0//EN
BEGIN:VEVENT
UID:c600a0f6-aba4-41ff-8b40-437e2f238344
DTSTAMP:20260422T051743Z
DTSTART;VALUE=DATE:20260817
SUMMARY:Bennington Battle Day (observed) (United States)
END:VEVENT
END:VCALENDAR