BEGIN:VCALENDAR
VERSION:2.0
PRODID:-//time.you/holidays//NONSGML v1.0//EN
BEGIN:VEVENT
UID:0ebba7c4-09db-48ea-8993-b75c197bbe86
DTSTAMP:20260422T070927Z
DTSTART;VALUE=DATE:20260816
SUMMARY:Bennington Battle Day (United States)
END:VEVENT
END:VCALENDAR