BEGIN:VCALENDAR
VERSION:2.0
PRODID:-//time.you/holidays//NONSGML v1.0//EN
BEGIN:VEVENT
UID:42484a61-d018-4416-9d68-b81d6d0524ab
DTSTAMP:20260423T102228Z
DTSTART;VALUE=DATE:20260331
SUMMARY:Cesar Chavez Day (United States)
END:VEVENT
END:VCALENDAR