BEGIN:VCALENDAR
VERSION:2.0
PRODID:-//time.you/holidays//NONSGML v1.0//EN
BEGIN:VEVENT
UID:207d0c69-3b82-4f2b-9d61-446bc486e5dd
DTSTAMP:20260421T205606Z
DTSTART;VALUE=DATE:20281103
SUMMARY:Citizenship Day (observed) (United States)
END:VEVENT
END:VCALENDAR