BEGIN:VCALENDAR
VERSION:2.0
PRODID:-//time.you/holidays//NONSGML v1.0//EN
BEGIN:VEVENT
UID:223541cd-5716-46f7-8213-a1b45ba4fc86
DTSTAMP:20260421T211726Z
DTSTART;VALUE=DATE:20261012
SUMMARY:Columbus Day / American Indian Heritage Day / Fraternal Day (United States)
END:VEVENT
END:VCALENDAR