BEGIN:VCALENDAR
VERSION:2.0
PRODID:-//time.you/holidays//NONSGML v1.0//EN
BEGIN:VEVENT
UID:1b831c63-18ca-4cf0-8169-f2124d3d1b6c
DTSTAMP:20260421T223627Z
DTSTART;VALUE=DATE:20261012
SUMMARY:Columbus Day (United States)
END:VEVENT
END:VCALENDAR