BEGIN:VCALENDAR
VERSION:2.0
PRODID:-//time.you/holidays//NONSGML v1.0//EN
BEGIN:VEVENT
UID:9555b649-6804-468f-a028-6c673e55350e
DTSTAMP:20260421T224334Z
DTSTART;VALUE=DATE:20260119
SUMMARY:Dr. Martin Luther King Jr. / Civil Rights Day (United States)
END:VEVENT
END:VCALENDAR