BEGIN:VCALENDAR
VERSION:2.0
PRODID:-//time.you/holidays//NONSGML v1.0//EN
BEGIN:VEVENT
UID:75f666ab-1a5a-4e23-af6e-900302bb3bee
DTSTAMP:20260424T164325Z
DTSTART;VALUE=DATE:20260619
SUMMARY:Emancipation Day In Texas; Juneteenth National Independence Day (United States)
END:VEVENT
END:VCALENDAR