BEGIN:VCALENDAR
VERSION:2.0
PRODID:-//time.you/holidays//NONSGML v1.0//EN
BEGIN:VEVENT
UID:3a6fa0ec-825d-45b3-8861-ddb725eb5f8a
DTSTAMP:20260421T235517Z
DTSTART;VALUE=DATE:20260323
SUMMARY:Emancipation Day (observed) (United States)
END:VEVENT
END:VCALENDAR