BEGIN:VCALENDAR
VERSION:2.0
PRODID:-//time.you/holidays//NONSGML v1.0//EN
BEGIN:VEVENT
UID:9b1d9137-186b-4121-9087-d13580869630
DTSTAMP:20260421T164716Z
DTSTART;VALUE=DATE:20260106
SUMMARY:Epiphany (United States)
END:VEVENT
END:VCALENDAR