BEGIN:VCALENDAR
VERSION:2.0
PRODID:-//time.you/holidays//NONSGML v1.0//EN
BEGIN:VEVENT
UID:6bb220ef-1ecb-4b8e-bbf0-155166dba51a
DTSTAMP:20260421T222350Z
DTSTART;VALUE=DATE:20260216
SUMMARY:George Washington Day (United States)
END:VEVENT
END:VCALENDAR