BEGIN:VCALENDAR
VERSION:2.0
PRODID:-//time.you/holidays//NONSGML v1.0//EN
BEGIN:VEVENT
UID:381db570-fd32-4a51-ac0a-e13a51c2e2ef
DTSTAMP:20260423T095709Z
DTSTART;VALUE=DATE:20260403
SUMMARY:Good Friday (United States)
END:VEVENT
END:VCALENDAR