BEGIN:VCALENDAR
VERSION:2.0
PRODID:-//time.you/holidays//NONSGML v1.0//EN
BEGIN:VEVENT
UID:9538e7c8-bd07-4318-87e1-56b9ab2ca2c4
DTSTAMP:20260424T150651Z
DTSTART;VALUE=DATE:20250120
SUMMARY:Inauguration Day; Martin Luther King Jr. Day (United States)
END:VEVENT
END:VCALENDAR