BEGIN:VCALENDAR
VERSION:2.0
PRODID:-//time.you/holidays//NONSGML v1.0//EN
BEGIN:VEVENT
UID:51e1c13c-33ae-4d08-a130-8b332acb8c60
DTSTAMP:20260422T024042Z
DTSTART;VALUE=DATE:20261012
SUMMARY:Indigenous Peoples' Day / Columbus Day (United States)
END:VEVENT
END:VCALENDAR