BEGIN:VCALENDAR
VERSION:2.0
PRODID:-//time.you/holidays//NONSGML v1.0//EN
BEGIN:VEVENT
UID:0d5a4ccf-e295-401e-a3cb-daebe378b084
DTSTAMP:20260421T223918Z
DTSTART;VALUE=DATE:20270618
SUMMARY:Juneteenth National Independence Day (observed) (United States)
END:VEVENT
END:VCALENDAR