BEGIN:VCALENDAR
VERSION:2.0
PRODID:-//time.you/holidays//NONSGML v1.0//EN
BEGIN:VEVENT
UID:67a226b2-7229-4e96-947a-8a4b5f76388b
DTSTAMP:20260420T165106Z
DTSTART;VALUE=DATE:20260619
SUMMARY:Juneteenth National Independence Day (United States)
END:VEVENT
END:VCALENDAR