BEGIN:VCALENDAR
VERSION:2.0
PRODID:-//time.you/holidays//NONSGML v1.0//EN
BEGIN:VEVENT
UID:72515035-13e9-4062-87d9-1731188acc12
DTSTAMP:20260422T130834Z
DTSTART;VALUE=DATE:20261208
SUMMARY:Lady of Camarin Day (United States)
END:VEVENT
END:VCALENDAR