BEGIN:VCALENDAR
VERSION:2.0
PRODID:-//time.you/holidays//NONSGML v1.0//EN
BEGIN:VEVENT
UID:2b813a44-170a-423a-9529-5371f212c394
DTSTAMP:20260421T131339Z
DTSTART;VALUE=DATE:20261101
SUMMARY:Liberty Day (United States)
END:VEVENT
END:VCALENDAR