BEGIN:VCALENDAR
VERSION:2.0
PRODID:-//time.you/holidays//NONSGML v1.0//EN
BEGIN:VEVENT
UID:ca4248b0-ea50-40ce-b3ad-f23e1d7a0925
DTSTAMP:20260422T020230Z
DTSTART;VALUE=DATE:20280211
SUMMARY:Lincoln's Birthday (observed) (United States)
END:VEVENT
END:VCALENDAR