BEGIN:VCALENDAR
VERSION:2.0
PRODID:-//time.you/holidays//NONSGML v1.0//EN
BEGIN:VEVENT
UID:defbef29-5673-49e1-8762-a477f71802f3
DTSTAMP:20260424T084321Z
DTSTART;VALUE=DATE:20280717
SUMMARY:Manu'a Islands Cession Day (observed) (United States)
END:VEVENT
END:VCALENDAR