BEGIN:VCALENDAR
VERSION:2.0
PRODID:-//time.you/holidays//NONSGML v1.0//EN
BEGIN:VEVENT
UID:95c194f5-b00c-4052-ab18-1dce5bb794d1
DTSTAMP:20260422T071253Z
DTSTART;VALUE=DATE:20260217
SUMMARY:Mardi Gras (United States)
END:VEVENT
END:VCALENDAR