BEGIN:VCALENDAR
VERSION:2.0
PRODID:-//time.you/holidays//NONSGML v1.0//EN
BEGIN:VEVENT
UID:2b2d966e-54a1-443f-8da8-0b7eff229436
DTSTAMP:20260421T211221Z
DTSTART;VALUE=DATE:20260525
SUMMARY:Memorial Day (United States)
END:VEVENT
END:VCALENDAR