BEGIN:VCALENDAR
VERSION:2.0
PRODID:-//time.you/holidays//NONSGML v1.0//EN
BEGIN:VEVENT
UID:f6b365ba-4497-4b5f-aeaf-ea4f7237a279
DTSTAMP:20260421T204945Z
DTSTART;VALUE=DATE:20261012
SUMMARY:Native Americans' Day (United States)
END:VEVENT
END:VCALENDAR