BEGIN:VCALENDAR
VERSION:2.0
PRODID:-//time.you/holidays//NONSGML v1.0//EN
BEGIN:VEVENT
UID:86b4c063-8c6a-4402-bb29-465a1bb7b129
DTSTAMP:20260424T215122Z
DTSTART;VALUE=DATE:20261030
SUMMARY:Nevada Day (United States)
END:VEVENT
END:VCALENDAR