BEGIN:VCALENDAR
VERSION:2.0
PRODID:-//time.you/holidays//NONSGML v1.0//EN
BEGIN:VEVENT
UID:0373806d-96e3-479b-be8b-2a1813ea9e84
DTSTAMP:20260423T185538Z
DTSTART;VALUE=DATE:20260420
SUMMARY:Patriots' Day (United States)
END:VEVENT
END:VCALENDAR